BEGIN:VCALENDAR
VERSION:2.0
PRODID:-//ChamberMaster//Event Calendar 2.0//EN
METHOD:PUBLISH
X-PUBLISHED-TTL:P3D
REFRESH-INTERVAL:P3D
CALSCALE:GREGORIAN
BEGIN:VEVENT
DTSTART;VALUE=DATE:20190415
DTEND;VALUE=DATE:20190417
TRANSP:TRANSPARENT
X-MICROSOFT-CDO-ALLDAYEVENT:TRUE
SUMMARY:UDOT Partnering Training (April 2019) - CLASS IS FULL
DESCRIPTION:
X-ALT-DESC;FMTTYPE=text/html:
LOCATION:AGC Headquarters 2207 South 1070 West Salt Lake City UT 84119
UID:e.3104.13860
SEQUENCE:3
DTSTAMP:20260420T114121Z
URL:https://members.agc-utah.org/events/details/udot-partnering-training-april-2019-class-is-full-13860
END:VEVENT

END:VCALENDAR
