BEGIN:VCALENDAR
VERSION:2.0
PRODID:-//ChamberMaster//Event Calendar 2.0//EN
METHOD:PUBLISH
X-PUBLISHED-TTL:P3D
REFRESH-INTERVAL:P3D
CALSCALE:GREGORIAN
BEGIN:VEVENT
DTSTART;VALUE=DATE:20200429
DTEND;VALUE=DATE:20200501
TRANSP:TRANSPARENT
X-MICROSOFT-CDO-ALLDAYEVENT:TRUE
SUMMARY:UDOT Partnering Training (April 2020)
DESCRIPTION:POSTPONED
X-ALT-DESC;FMTTYPE=text/html:<br>\n<span style="font-size:20px\;"><strong>POSTPONED&nbsp\;</strong></span>
LOCATION:AGC Headquarters 2207 South 1070 West Salt Lake City UT 84119
UID:e.3104.14054
SEQUENCE:3
DTSTAMP:20260421T051255Z
URL:https://members.agc-utah.org/events/details/udot-partnering-training-april-2020-14054
END:VEVENT

END:VCALENDAR
