BEGIN:VCALENDAR
VERSION:2.0
PRODID:-//ChamberMaster//Event Calendar 2.0//EN
METHOD:PUBLISH
X-PUBLISHED-TTL:P3D
REFRESH-INTERVAL:P3D
CALSCALE:GREGORIAN
BEGIN:VEVENT
DTSTART;VALUE=DATE:20190924
DTEND;VALUE=DATE:20190926
TRANSP:TRANSPARENT
X-MICROSOFT-CDO-ALLDAYEVENT:TRUE
SUMMARY:UDOT Partnering Training (September 2019)
DESCRIPTION:
X-ALT-DESC;FMTTYPE=text/html:
LOCATION:AGC Headquarters 2207 South 1070 West Salt Lake City UT 84119
UID:e.3104.13906
SEQUENCE:3
DTSTAMP:20260420T173814Z
URL:https://members.agc-utah.org/events/details/udot-partnering-training-september-2019-13906
END:VEVENT

END:VCALENDAR
