BEGIN:VCALENDAR
VERSION:2.0
PRODID:-//ChamberMaster//Event Calendar 2.0//EN
METHOD:PUBLISH
X-PUBLISHED-TTL:P3D
REFRESH-INTERVAL:P3D
CALSCALE:GREGORIAN
BEGIN:VEVENT
DTSTART;VALUE=DATE:20190410
DTEND;VALUE=DATE:20190412
TRANSP:TRANSPARENT
X-MICROSOFT-CDO-ALLDAYEVENT:TRUE
SUMMARY:UDOT Partnering Training - St. George (April 2019)
DESCRIPTION:
X-ALT-DESC;FMTTYPE=text/html:
LOCATION:Southern Utah Office 230 North 1680 East\, B-1 St. George UT 84770
UID:e.3104.13901
SEQUENCE:3
DTSTAMP:20260420T101707Z
URL:https://members.agc-utah.org/events/details/udot-partnering-training-st-george-april-2019-13901
END:VEVENT

END:VCALENDAR
