BEGIN:VCALENDAR
VERSION:2.0
PRODID:-//ChamberMaster//Event Calendar 2.0//EN
METHOD:PUBLISH
X-PUBLISHED-TTL:P3D
REFRESH-INTERVAL:P3D
CALSCALE:GREGORIAN
BEGIN:VEVENT
DTSTART;VALUE=DATE:20210303
DTEND;VALUE=DATE:20210305
TRANSP:TRANSPARENT
X-MICROSOFT-CDO-ALLDAYEVENT:TRUE
SUMMARY:UDOT Partnering Training - St. George (March 3-4\, 2021) CLASS FULL
DESCRIPTION:
X-ALT-DESC;FMTTYPE=text/html:
LOCATION:Southern Utah Office 230 North 1680 East\, B-1 St. George UT 84790
UID:e.3104.14196
SEQUENCE:3
DTSTAMP:20260420T162803Z
URL:https://members.agc-utah.org/events/details/udot-partnering-training-st-george-march-3-4-2021-class-full-14196
END:VEVENT

END:VCALENDAR
