BEGIN:VCALENDAR
VERSION:2.0
PRODID:-//ChamberMaster//Event Calendar 2.0//EN
METHOD:PUBLISH
X-PUBLISHED-TTL:P3D
REFRESH-INTERVAL:P3D
CALSCALE:GREGORIAN
BEGIN:VEVENT
DTSTART:20201013T180000Z
DTEND:20201013T190000Z
X-MICROSOFT-CDO-ALLDAYEVENT:FALSE
SUMMARY:Understand your Mindset\, Improve your Focus and Prosper: 4 Keys to Business Success - St. George (10.13.20)
DESCRIPTION:Many people are currently experiencing high levels of fear and anxiety\, and their mental noise makes it almost impossible for them to concentrate. Marco Lopez has done a great deal of research on professional success and has developed a solution to this problem\, which has already been proven in the US\, in Brazil\, and in Latin America. Now it's your turn to learn and understand.\n\n\n\nPresenter: Marco Lopez\, Human Development Coach
X-ALT-DESC;FMTTYPE=text/html:Many people are currently experiencing high levels of fear and anxiety\, and their mental noise makes it almost impossible for them to concentrate. Marco Lopez has done a great deal of research on professional success and has developed a solution to this problem\, which has already been proven in the US\, in Brazil\, and in Latin America. Now it&rsquo\;s your turn to learn and understand.<br />\n<br />\n<strong>Presenter: Marco Lopez\, Human Development Coach</strong>
LOCATION:via ZOOM
UID:e.3104.14132
SEQUENCE:3
DTSTAMP:20260421T022659Z
URL:https://members.agc-utah.org/events/details/understand-your-mindset-improve-your-focus-and-prosper-4-keys-to-business-success-st-george-10-13-20-14132
END:VEVENT

END:VCALENDAR
