BEGIN:VCALENDAR
VERSION:2.0
PRODID:-//ChamberMaster//Event Calendar 2.0//EN
METHOD:PUBLISH
X-PUBLISHED-TTL:P3D
REFRESH-INTERVAL:P3D
CALSCALE:GREGORIAN
BEGIN:VEVENT
DTSTART:20200512T180000Z
DTEND:20200512T190000Z
X-MICROSOFT-CDO-ALLDAYEVENT:FALSE
SUMMARY:Value Reconstruction: Rebuilding Company Value (05.12.20)
DESCRIPTION:This webinar will help businesses evaluate options to grow post COVID-19.  It walks participants through 3 phases: Recovery\, Stability and Growth.  Recovery evaluates the best path for a company to take to reestablish value or leverage their continued success.  This includes risk assessments\, tax strategies and financial modeling.  Stability establishes the Critical Success Factors and the Key Performance Indicators to monitor.  It will also review cash flow reports\, forecasting and budget to variance tracking.  Growth discusses options to aid in expanding business including the potential of using mergers and acquisitions.  \n\n\n\nPresented by WSRP CPAs & Advisors: Partners Bruce Gulso and Doug Myers
X-ALT-DESC;FMTTYPE=text/html:This webinar will help businesses evaluate options to grow post COVID-19.&nbsp\; It walks participants through 3 phases: Recovery\, Stability and Growth.&nbsp\; Recovery evaluates the best path for a company to take to reestablish value or leverage their continued success.&nbsp\; This includes risk assessments\, tax strategies and financial modeling.&nbsp\; Stability establishes the Critical Success Factors and the Key Performance Indicators to monitor.&nbsp\; It will also review cash flow reports\, forecasting and budget to variance tracking.&nbsp\; Growth discusses options to aid in expanding business including the potential of using mergers and acquisitions.&nbsp\;&nbsp\;<br />\n<br />\n<strong>Presented by WSRP CPAs &amp\; Advisors: Partners Bruce Gulso and Doug Myers</strong>
LOCATION:Live Webinar *Meeting login will be sent the day before course - please enter accurate email address for each individual registerd.
UID:e.3104.14065
SEQUENCE:3
DTSTAMP:20260421T070625Z
URL:https://members.agc-utah.org/events/details/value-reconstruction-rebuilding-company-value-05-12-20-14065
END:VEVENT

END:VCALENDAR
