BEGIN:VCALENDAR
VERSION:2.0
PRODID:-//ChamberMaster//Event Calendar 2.0//EN
METHOD:PUBLISH
X-PUBLISHED-TTL:P3D
REFRESH-INTERVAL:P3D
CALSCALE:GREGORIAN
BEGIN:VEVENT
DTSTART:20190621T180000Z
DTEND:20190621T190000Z
X-MICROSOFT-CDO-ALLDAYEVENT:FALSE
SUMMARY:What would a 401(k) Audit Cost Your Company? (06.21.19)
DESCRIPTION:Discuss best practices and common problems of 401(k) audits with experts from CUI Wealth Management
X-ALT-DESC;FMTTYPE=text/html:Discuss best practices and common problems of 401(k) audits with experts from CUI Wealth Management
LOCATION:AGC Headquarters 2207 South 1070 West Salt Lake City UT 84119
UID:e.3104.13927
SEQUENCE:3
DTSTAMP:20260420T132620Z
URL:https://members.agc-utah.org/events/details/what-would-a-401-k-audit-cost-your-company-06-21-19-13927
END:VEVENT

END:VCALENDAR
