BEGIN:VCALENDAR
VERSION:2.0
PRODID:-//ChamberMaster//Event Calendar 2.0//EN
METHOD:PUBLISH
X-PUBLISHED-TTL:P3D
REFRESH-INTERVAL:P3D
CALSCALE:GREGORIAN
BEGIN:VEVENT
DTSTART;VALUE=DATE:20201120
DTEND;VALUE=DATE:20201121
TRANSP:TRANSPARENT
X-MICROSOFT-CDO-ALLDAYEVENT:TRUE
SUMMARY:Winter Golf Tournament - St. George (11.20.20)
DESCRIPTION:Click here to download sponsor form
X-ALT-DESC;FMTTYPE=text/html:<br />\n<a href="https://chambermaster.blob.core.windows.net/userfiles/UserFiles/chambers/3104/File/2020WinterGolfSponsorshipForms.pdf">Click here</a> to download sponsor form
LOCATION:Sunbrook Golf Course 2366 Sunbrook Drive St. George UT 84770
UID:e.3104.14120
SEQUENCE:3
DTSTAMP:20260420T224516Z
URL:https://members.agc-utah.org/events/details/winter-golf-tournament-st-george-11-20-20-14120
END:VEVENT

END:VCALENDAR
