BEGIN:VCALENDAR
VERSION:2.0
PRODID:-//ChamberMaster//Event Calendar 2.0//EN
METHOD:PUBLISH
X-PUBLISHED-TTL:P3D
REFRESH-INTERVAL:P3D
CALSCALE:GREGORIAN
BEGIN:VEVENT
DTSTART:20210426T140000Z
DTEND:20210426T153000Z
X-MICROSOFT-CDO-ALLDAYEVENT:FALSE
SUMMARY:Work Zone Safety Awareness - St. George (04.26.21)
DESCRIPTION:The National Work Zone Awareness week is April 26-30\, 2021 and the theme this year is "Drive Safe. Work Safe. Save Lives." \n\n\n\nThe key focus of this presentation is to encourage best practices while working in work zones and safe driving using extra caution through highway work zones.\n\n\n\nPresenters: Dan Arnoldson\, WCF & Keith Bladen\, UDOT
X-ALT-DESC;FMTTYPE=text/html:The National Work Zone Awareness week is April 26-30\, 2021 and the theme this year is &quot\;Drive Safe. Work Safe. Save Lives.&quot\;&nbsp\;<br />\n<br />\nThe key focus of this presentation is to encourage best practices while working in work zones and safe driving using extra caution through highway work zones.<br />\n<br />\n<strong>Presenters: Dan Arnoldson\, WCF&nbsp\;&amp\; Keith Bladen\, UDOT</strong>
LOCATION:AGC Southern Utah 230 North 1680 East B-1 St. George UT 84790
UID:e.3104.14265
SEQUENCE:3
DTSTAMP:20260420T142748Z
URL:https://members.agc-utah.org/events/details/work-zone-safety-awareness-st-george-04-26-21-14265
END:VEVENT

END:VCALENDAR
