BEGIN:VCALENDAR
VERSION:2.0
PRODID:-//ChamberMaster//Event Calendar 2.0//EN
METHOD:PUBLISH
X-PUBLISHED-TTL:P3D
REFRESH-INTERVAL:P3D
CALSCALE:GREGORIAN
BEGIN:VEVENT
DTSTART:20190418T130000Z
DTEND:20190418T140000Z
X-MICROSOFT-CDO-ALLDAYEVENT:FALSE
SUMMARY:Working Safely with Silica - St. George (04.18.19)
DESCRIPTION:The AGC of Utah's Builder's Safety Committee in Southern Utah is sponsoring a free basic implementation course on OSHA's new silica standard taught by Tom Chism\, WCF Insurance.\n\n\n\nUtah Occupational Safety & Health (UOSH) recently adopted this standard and has advised that it will begin enforcing it on October 12\, 2018 here in Utah.The target audience for this course are Subcontractor supervisors\, upper management\, and those responsible for oversight of their company's OSHA compliance. \n\n\n\nParticipants will be provided an overview of the new standard and will gain an understanding of what is required to to effectively implement these new requirements.
X-ALT-DESC;FMTTYPE=text/html:The AGC of Utah&#39\;s Builder&rsquo\;s Safety Committee in Southern Utah is sponsoring a free basic implementation course on OSHA&rsquo\;s new silica standard taught by Tom Chism\, WCF Insurance.<br />\n<br />\nUtah Occupational Safety &amp\; Health (UOSH) recently adopted this standard and has advised that it will begin enforcing it on October 12\, 2018 here in Utah.The target audience for this course are Subcontractor supervisors\, upper management\, and those responsible for oversight of their company&rsquo\;s OSHA compliance.&nbsp\;<br />\n<br />\nParticipants will be provided an overview of the new standard and will gain an understanding of what is required to to effectively implement these new requirements.<br />\n&nbsp\;
LOCATION:AGC Southern Utah 230 North 1680 East\, #B-1 St. George UT 84790
UID:e.3104.13895
SEQUENCE:3
DTSTAMP:20260420T101747Z
URL:https://members.agc-utah.org/events/details/working-safely-with-silica-st-george-04-18-19-13895
END:VEVENT

END:VCALENDAR
